BEGIN:VCALENDAR
VERSION:2.0
PRODID:-//MyGOAL - ECPv6.15.20//NONSGML v1.0//EN
CALSCALE:GREGORIAN
METHOD:PUBLISH
X-WR-CALNAME:MyGOAL
X-ORIGINAL-URL:https://mygoalinc.org
X-WR-CALDESC:Events for MyGOAL
REFRESH-INTERVAL;VALUE=DURATION:PT1H
X-Robots-Tag:noindex
X-PUBLISHED-TTL:PT1H
BEGIN:VTIMEZONE
TZID:America/New_York
BEGIN:DAYLIGHT
TZOFFSETFROM:-0500
TZOFFSETTO:-0400
TZNAME:EDT
DTSTART:20230312T070000
END:DAYLIGHT
BEGIN:STANDARD
TZOFFSETFROM:-0400
TZOFFSETTO:-0500
TZNAME:EST
DTSTART:20231105T060000
END:STANDARD
BEGIN:DAYLIGHT
TZOFFSETFROM:-0500
TZOFFSETTO:-0400
TZNAME:EDT
DTSTART:20240310T070000
END:DAYLIGHT
BEGIN:STANDARD
TZOFFSETFROM:-0400
TZOFFSETTO:-0500
TZNAME:EST
DTSTART:20241103T060000
END:STANDARD
BEGIN:DAYLIGHT
TZOFFSETFROM:-0500
TZOFFSETTO:-0400
TZNAME:EDT
DTSTART:20250309T070000
END:DAYLIGHT
BEGIN:STANDARD
TZOFFSETFROM:-0400
TZOFFSETTO:-0500
TZNAME:EST
DTSTART:20251102T060000
END:STANDARD
END:VTIMEZONE
BEGIN:VEVENT
DTSTART;TZID=America/New_York:20240204T140000
DTEND;TZID=America/New_York:20240204T160000
DTSTAMP:20260419T074218
CREATED:20240128T182046Z
LAST-MODIFIED:20240128T183326Z
UID:1150-1707055200-1707062400@mygoalinc.org
SUMMARY:Special Individuals Art Club Session #2
DESCRIPTION:What: Sessions include: Mixed Media Collage\, Painting on Canvas\, Mixed Media Jewelry\, Fabric Manipulation\, and more! Beginners Welcome! Challenge Level: Low to Medium \nWhen: Sunday\, February 4th from 2PM – 4PM EST \nPricing: Includes all materials and guided instruction for six sessions of the art club. \n\nEarly Bird (Before January 26th): $100/person\nAfter January 26th: $120/person\n\nLocation: 124 Locust Street\, Roselle\, NJ\, 07203 \nRegister Here!
URL:https://mygoalinc.org/event/special-individuals-art-club-session-2/
ATTACH;FMTTYPE=image/png:https://mygoalinc.org/wp-content/uploads/2024/01/Special-Individuals-Art-Club-2024.png
END:VEVENT
BEGIN:VEVENT
DTSTART;TZID=America/New_York:20240211T150000
DTEND;TZID=America/New_York:20240211T170000
DTSTAMP:20260419T074218
CREATED:20240204T215417Z
LAST-MODIFIED:20240204T215534Z
UID:1165-1707663600-1707670800@mygoalinc.org
SUMMARY:Ask the Expert
DESCRIPTION:What: Your Advocacy Toolkit: What is in it? The Parent Perspective \nWhen: Sunday\, February 11\, 2024 at 3:00PM – 5:00PM EST \nRegister Here!
URL:https://mygoalinc.org/event/ask-the-expert-7/
CATEGORIES:Ask the Expert
ATTACH;FMTTYPE=image/png:https://mygoalinc.org/wp-content/uploads/2024/02/Ask-the-Expert-022024.png
END:VEVENT
BEGIN:VEVENT
DTSTART;TZID=America/New_York:20240218T140000
DTEND;TZID=America/New_York:20240218T160000
DTSTAMP:20260419T074218
CREATED:20240128T182222Z
LAST-MODIFIED:20240128T183706Z
UID:1152-1708264800-1708272000@mygoalinc.org
SUMMARY:Special Individuals Art Club Session #3
DESCRIPTION:What: Sessions include: Mixed Media Collage\, Painting on Canvas\, Mixed Media Jewelry\, Fabric Manipulation\, and more! Beginners Welcome! Challenge Level: Low to Medium \nWhen: Sunday\, February 18th from 2PM – 4PM EST \nPricing: Includes all materials and guided instruction for six sessions of the art club. \n\nEarly Bird (Before January 26th): $100/person\nAfter January 26th: $120/person\n\nLocation: 124 Locust Street\, Roselle\, NJ\, 07203 \nRegister Here!
URL:https://mygoalinc.org/event/special-individuals-art-club-session-3/
ATTACH;FMTTYPE=image/png:https://mygoalinc.org/wp-content/uploads/2024/01/Special-Individuals-Art-Club-2024.png
END:VEVENT
BEGIN:VEVENT
DTSTART;TZID=America/New_York:20240224T093000
DTEND;TZID=America/New_York:20240224T110000
DTSTAMP:20260419T074218
CREATED:20240204T215930Z
LAST-MODIFIED:20240204T215930Z
UID:1170-1708767000-1708772400@mygoalinc.org
SUMMARY:Social Hour Live
DESCRIPTION:What: Indulge in the joy of brunch\, connect with fellow parents and caregivers in a welcoming atmosphere. \nWhen: Saturday\, February 24th from 9:30AM – 11:00 AM EST \nWhere: Brookwood Cafe\, 3133 Quaker Brg Rd\, Hamilton Township\, NJ\, 08619 \nRegister Here!
URL:https://mygoalinc.org/event/social-hour-live-4/
CATEGORIES:Social Hour
ATTACH;FMTTYPE=image/png:https://mygoalinc.org/wp-content/uploads/2024/02/022024-MyGOAL-social-hour.png
END:VEVENT
BEGIN:VEVENT
DTSTART;TZID=America/New_York:20240229T190000
DTEND;TZID=America/New_York:20240229T210000
DTSTAMP:20260419T074218
CREATED:20240204T220359Z
LAST-MODIFIED:20240204T220359Z
UID:1173-1709233200-1709240400@mygoalinc.org
SUMMARY:Empowerment Moment with Dr. G
DESCRIPTION:What: Get a word of encouragement to get through the season \nWhen: Thursday\, February 29th from 7:00PM – 8:00PM EST \nRegister Here!
URL:https://mygoalinc.org/event/empowerment-moment-with-dr-g-17/
CATEGORIES:Empowerment Moment
ATTACH;FMTTYPE=image/png:https://mygoalinc.org/wp-content/uploads/2024/02/Empowerment-Moment-022024.png
END:VEVENT
END:VCALENDAR