BEGIN:VCALENDAR
VERSION:2.0
PRODID:-//MyGOAL - ECPv6.15.20//NONSGML v1.0//EN
CALSCALE:GREGORIAN
METHOD:PUBLISH
X-WR-CALNAME:MyGOAL
X-ORIGINAL-URL:https://mygoalinc.org
X-WR-CALDESC:Events for MyGOAL
REFRESH-INTERVAL;VALUE=DURATION:PT1H
X-Robots-Tag:noindex
X-PUBLISHED-TTL:PT1H
BEGIN:VTIMEZONE
TZID:America/New_York
BEGIN:DAYLIGHT
TZOFFSETFROM:-0500
TZOFFSETTO:-0400
TZNAME:EDT
DTSTART:20230312T070000
END:DAYLIGHT
BEGIN:STANDARD
TZOFFSETFROM:-0400
TZOFFSETTO:-0500
TZNAME:EST
DTSTART:20231105T060000
END:STANDARD
BEGIN:DAYLIGHT
TZOFFSETFROM:-0500
TZOFFSETTO:-0400
TZNAME:EDT
DTSTART:20240310T070000
END:DAYLIGHT
BEGIN:STANDARD
TZOFFSETFROM:-0400
TZOFFSETTO:-0500
TZNAME:EST
DTSTART:20241103T060000
END:STANDARD
BEGIN:DAYLIGHT
TZOFFSETFROM:-0500
TZOFFSETTO:-0400
TZNAME:EDT
DTSTART:20250309T070000
END:DAYLIGHT
BEGIN:STANDARD
TZOFFSETFROM:-0400
TZOFFSETTO:-0500
TZNAME:EST
DTSTART:20251102T060000
END:STANDARD
END:VTIMEZONE
BEGIN:VEVENT
DTSTART;TZID=America/New_York:20240114T150000
DTEND;TZID=America/New_York:20240114T170000
DTSTAMP:20260420T081532
CREATED:20240104T151929Z
LAST-MODIFIED:20240104T153310Z
UID:1133-1705244400-1705251600@mygoalinc.org
SUMMARY:Ask the Expert
DESCRIPTION:What: Social skills training: What\, Why\, How with Rebecca Zegas\, BCBA \nWhen: Sunday\, January 14 from 3PM – 5PM EST \nRegister Here!
URL:https://mygoalinc.org/event/ask-the-expert-6/
CATEGORIES:Ask the Expert
ATTACH;FMTTYPE=image/png:https://mygoalinc.org/wp-content/uploads/2024/01/Ask-the-Expert-2024.png
END:VEVENT
BEGIN:VEVENT
DTSTART;TZID=America/New_York:20240125T190000
DTEND;TZID=America/New_York:20240125T210000
DTSTAMP:20260420T081532
CREATED:20240104T152229Z
LAST-MODIFIED:20240104T152229Z
UID:1136-1706209200-1706216400@mygoalinc.org
SUMMARY:Empowerment Moment with Dr. G
DESCRIPTION:What: Get a word of encouragement to get through the season \nWhen: Thursday\, January 25th at 7PM EST \nRegister Here!
URL:https://mygoalinc.org/event/empowerment-moment-with-dr-g-16/
CATEGORIES:Empowerment Moment
ATTACH;FMTTYPE=image/png:https://mygoalinc.org/wp-content/uploads/2024/01/Empowerment-Moment-2024.png
END:VEVENT
BEGIN:VEVENT
DTSTART;TZID=America/New_York:20240127T093000
DTEND;TZID=America/New_York:20240127T110000
DTSTAMP:20260420T081532
CREATED:20240104T153354Z
LAST-MODIFIED:20240104T153354Z
UID:1140-1706347800-1706353200@mygoalinc.org
SUMMARY:Social Hour Live
DESCRIPTION:What: Indulge in the joy of brunch\, connect with fellow parents and caregivers in a welcoming atmosphere. \nWhere: Brookwood Cafe\, 3133 Quaker Brg Rd\, Hamilton Township\, NJ\, 08619 \nWhen: Saturday\, January 27th from 9:30AM – 11AM EST \nRegister Here!
URL:https://mygoalinc.org/event/social-hour-live-3/
CATEGORIES:Social Hour
ATTACH;FMTTYPE=image/png:https://mygoalinc.org/wp-content/uploads/2024/01/2024-MyGOAL-social-hour.png
END:VEVENT
BEGIN:VEVENT
DTSTART;TZID=America/New_York:20240128T140000
DTEND;TZID=America/New_York:20240128T160000
DTSTAMP:20260420T081532
CREATED:20240128T181450Z
LAST-MODIFIED:20240128T183255Z
UID:1147-1706450400-1706457600@mygoalinc.org
SUMMARY:Special Individuals Art Club Session #1
DESCRIPTION:What: Sessions include: Mixed Media Collage\, Painting on Canvas\, Mixed Media Jewelry\, Fabric Manipulation\, and more! Beginners Welcome! Challenge Level: Low to Medium \nWhen: Sunday\, January 28th from 2PM – 4PM EST \nPricing: Includes all materials and guided instruction for six sessions of the art club. \n\nEarly Bird (Before January 26th): $100/person\nAfter January 26th: $120/person\n\nLocation: 124 Locust Street\, Roselle\, NJ\, 07203 \nRegister Here!
URL:https://mygoalinc.org/event/special-individuals-art-club-session-1/
ATTACH;FMTTYPE=image/png:https://mygoalinc.org/wp-content/uploads/2024/01/Special-Individuals-Art-Club-2024.png
END:VEVENT
END:VCALENDAR