BEGIN:VCALENDAR
VERSION:2.0
PRODID:-//MyGOAL - ECPv6.15.20//NONSGML v1.0//EN
CALSCALE:GREGORIAN
METHOD:PUBLISH
X-ORIGINAL-URL:https://mygoalinc.org
X-WR-CALDESC:Events for MyGOAL
REFRESH-INTERVAL;VALUE=DURATION:PT1H
X-Robots-Tag:noindex
X-PUBLISHED-TTL:PT1H
BEGIN:VTIMEZONE
TZID:America/New_York
BEGIN:DAYLIGHT
TZOFFSETFROM:-0500
TZOFFSETTO:-0400
TZNAME:EDT
DTSTART:20210314T070000
END:DAYLIGHT
BEGIN:STANDARD
TZOFFSETFROM:-0400
TZOFFSETTO:-0500
TZNAME:EST
DTSTART:20211107T060000
END:STANDARD
BEGIN:DAYLIGHT
TZOFFSETFROM:-0500
TZOFFSETTO:-0400
TZNAME:EDT
DTSTART:20220313T070000
END:DAYLIGHT
BEGIN:STANDARD
TZOFFSETFROM:-0400
TZOFFSETTO:-0500
TZNAME:EST
DTSTART:20221106T060000
END:STANDARD
BEGIN:DAYLIGHT
TZOFFSETFROM:-0500
TZOFFSETTO:-0400
TZNAME:EDT
DTSTART:20230312T070000
END:DAYLIGHT
BEGIN:STANDARD
TZOFFSETFROM:-0400
TZOFFSETTO:-0500
TZNAME:EST
DTSTART:20231105T060000
END:STANDARD
BEGIN:DAYLIGHT
TZOFFSETFROM:-0500
TZOFFSETTO:-0400
TZNAME:EDT
DTSTART:20240310T070000
END:DAYLIGHT
BEGIN:STANDARD
TZOFFSETFROM:-0400
TZOFFSETTO:-0500
TZNAME:EST
DTSTART:20241103T060000
END:STANDARD
BEGIN:DAYLIGHT
TZOFFSETFROM:-0500
TZOFFSETTO:-0400
TZNAME:EDT
DTSTART:20250309T070000
END:DAYLIGHT
BEGIN:STANDARD
TZOFFSETFROM:-0400
TZOFFSETTO:-0500
TZNAME:EST
DTSTART:20251102T060000
END:STANDARD
BEGIN:DAYLIGHT
TZOFFSETFROM:-0500
TZOFFSETTO:-0400
TZNAME:EDT
DTSTART:20260308T070000
END:DAYLIGHT
BEGIN:STANDARD
TZOFFSETFROM:-0400
TZOFFSETTO:-0500
TZNAME:EST
DTSTART:20261101T060000
END:STANDARD
BEGIN:DAYLIGHT
TZOFFSETFROM:-0500
TZOFFSETTO:-0400
TZNAME:EDT
DTSTART:20270314T070000
END:DAYLIGHT
BEGIN:STANDARD
TZOFFSETFROM:-0400
TZOFFSETTO:-0500
TZNAME:EST
DTSTART:20271107T060000
END:STANDARD
END:VTIMEZONE
BEGIN:VEVENT
DTSTART;TZID=America/New_York:20260328T120000
DTEND;TZID=America/New_York:20260328T140000
DTSTAMP:20260421T162125
CREATED:20260316T013106Z
LAST-MODIFIED:20260316T013106Z
UID:1465-1774699200-1774706400@mygoalinc.org
SUMMARY:Social Hour Live
DESCRIPTION:What: Join us for breakfast and a time to share\, learn or simply listen as we connect with caregivers on a journey. Please note that the time has changed from 9am to 12pm. \nWhen: Saturday\, March 28th at 12PM EST \nWhere: Panera Bread Edison\, 1551 US 1 South\, Edison\, NJ 08837 \nRegister Here!
URL:https://mygoalinc.org/event/social-hour-live-10/
CATEGORIES:Social Hour
ATTACH;FMTTYPE=image/png:https://mygoalinc.org/wp-content/uploads/2026/03/Social-Hour-Live-2.png
END:VEVENT
BEGIN:VEVENT
DTSTART;TZID=America/New_York:20260228T090000
DTEND;TZID=America/New_York:20260228T110000
DTSTAMP:20260421T162125
CREATED:20260316T015907Z
LAST-MODIFIED:20260316T015907Z
UID:1472-1772269200-1772276400@mygoalinc.org
SUMMARY:Social Hour Live
DESCRIPTION:What: Join us for breakfast and a time to share\, learn or simply listen as we connect with caregivers on a journey \nWhen: Saturday\, February 28 at 9AM EST \nWhere: Panera Bread Edison\, 1551 US 1 South\, Edison\, NJ 08837 \nRegister Here!
URL:https://mygoalinc.org/event/social-hour-live-11/
CATEGORIES:Social Hour
ATTACH;FMTTYPE=image/png:https://mygoalinc.org/wp-content/uploads/2026/03/Social-Hour-Live-1.png
END:VEVENT
BEGIN:VEVENT
DTSTART;TZID=America/New_York:20260131T090000
DTEND;TZID=America/New_York:20260131T110000
DTSTAMP:20260421T162125
CREATED:20260112T055752Z
LAST-MODIFIED:20260112T055752Z
UID:1448-1769850000-1769857200@mygoalinc.org
SUMMARY:Social Hour Live
DESCRIPTION:What: Join us for breakfast and a time to share\, learn or simply listen as we connect with caregivers on a journey \nWhen: Saturday\, January 31 at 9AM EST \nWhere: Panera Bread Edison\, 1551 US 1 South\, Edison\, NJ\, 08837 \nRegister Here!
URL:https://mygoalinc.org/event/social-hour-live-9/
CATEGORIES:Social Hour
ATTACH;FMTTYPE=image/png:https://mygoalinc.org/wp-content/uploads/2026/01/Social-Hour-2026.png
END:VEVENT
BEGIN:VEVENT
DTSTART;TZID=America/New_York:20250322T090000
DTEND;TZID=America/New_York:20250322T110000
DTSTAMP:20260421T162125
CREATED:20250305T223827Z
LAST-MODIFIED:20250305T223827Z
UID:1370-1742634000-1742641200@mygoalinc.org
SUMMARY:Social Hour Live
DESCRIPTION:What: Join us for breakfast and a time to share\, learn\, or simply listen as we connect with caregivers on a journey \nWhen: Saturday\, March 22nd at 9AM EST \nWhere: Panera Bread Edison\, 1551 US 1 South\, Edison\, NJ\, 08837 \nRegister Here!
URL:https://mygoalinc.org/event/social-hour-live-8/
CATEGORIES:Social Hour
ATTACH;FMTTYPE=image/png:https://mygoalinc.org/wp-content/uploads/2025/03/March-Social-Hour-2025-Desktop-1.png
END:VEVENT
BEGIN:VEVENT
DTSTART;TZID=America/New_York:20250118T090000
DTEND;TZID=America/New_York:20250118T110000
DTSTAMP:20260421T162125
CREATED:20250112T015215Z
LAST-MODIFIED:20250112T022128Z
UID:1343-1737190800-1737198000@mygoalinc.org
SUMMARY:Social Hour Live
DESCRIPTION:What: Join us for breakfast and a time to share\, learn\, or simply listen as we connect with caregivers on a journey \nWhen: Saturday\, January 18\, 2025 at 9AM EST \nWhere: Panera Bread Edison\, 1551 US 1 South\, Edison\, NJ\, 08837 \nRegister Here!
URL:https://mygoalinc.org/event/social-hour-live-7/
CATEGORIES:Social Hour
ATTACH;FMTTYPE=image/png:https://mygoalinc.org/wp-content/uploads/2025/01/Social-Hour-2025-3.png
END:VEVENT
BEGIN:VEVENT
DTSTART;TZID=America/New_York:20240427T093000
DTEND;TZID=America/New_York:20240427T110000
DTSTAMP:20260421T162125
CREATED:20240414T024844Z
LAST-MODIFIED:20240414T024844Z
UID:1206-1714210200-1714215600@mygoalinc.org
SUMMARY:Social Hour Live
DESCRIPTION:What: Indulge in the joy of brunch\, connect with fellow parents and caregivers in a welcoming atmosphere. \nWhen: Saturday\, April 27th from 9:30AM – 11:00AM EST \nWhere: Brookwood Cafe\, 3133 Quaker Brg Road\, Hamilton Township\, NJ\, 08619 \nRegister Here!
URL:https://mygoalinc.org/event/social-hour-live-6/
CATEGORIES:Social Hour
ATTACH;FMTTYPE=image/jpeg:https://mygoalinc.org/wp-content/uploads/2024/04/Social-Hour-Live-April-2024.jpeg
END:VEVENT
BEGIN:VEVENT
DTSTART;TZID=America/New_York:20240323T093000
DTEND;TZID=America/New_York:20240323T110000
DTSTAMP:20260421T162125
CREATED:20240304T001718Z
LAST-MODIFIED:20240304T001718Z
UID:1190-1711186200-1711191600@mygoalinc.org
SUMMARY:Social Hour Live
DESCRIPTION:What: Indulge in the joy of brunch\, connect with fellow parents and caregivers in a welcoming atmosphere. \nWhen: Saturday\, March 23rd from 9:30AM – 11AM EST \nWhere: Brookwood Cafe\, 3133 Quaker Brg Rd\, Hamilton Township\, NJ\, 08619 \nRegister Here!
URL:https://mygoalinc.org/event/social-hour-live-5/
CATEGORIES:Social Hour
ATTACH;FMTTYPE=image/png:https://mygoalinc.org/wp-content/uploads/2024/03/032024-MyGOAL-social-hour-1.png
END:VEVENT
BEGIN:VEVENT
DTSTART;TZID=America/New_York:20240224T093000
DTEND;TZID=America/New_York:20240224T110000
DTSTAMP:20260421T162125
CREATED:20240204T215930Z
LAST-MODIFIED:20240204T215930Z
UID:1170-1708767000-1708772400@mygoalinc.org
SUMMARY:Social Hour Live
DESCRIPTION:What: Indulge in the joy of brunch\, connect with fellow parents and caregivers in a welcoming atmosphere. \nWhen: Saturday\, February 24th from 9:30AM – 11:00 AM EST \nWhere: Brookwood Cafe\, 3133 Quaker Brg Rd\, Hamilton Township\, NJ\, 08619 \nRegister Here!
URL:https://mygoalinc.org/event/social-hour-live-4/
CATEGORIES:Social Hour
ATTACH;FMTTYPE=image/png:https://mygoalinc.org/wp-content/uploads/2024/02/022024-MyGOAL-social-hour.png
END:VEVENT
BEGIN:VEVENT
DTSTART;TZID=America/New_York:20240127T093000
DTEND;TZID=America/New_York:20240127T110000
DTSTAMP:20260421T162125
CREATED:20240104T153354Z
LAST-MODIFIED:20240104T153354Z
UID:1140-1706347800-1706353200@mygoalinc.org
SUMMARY:Social Hour Live
DESCRIPTION:What: Indulge in the joy of brunch\, connect with fellow parents and caregivers in a welcoming atmosphere. \nWhere: Brookwood Cafe\, 3133 Quaker Brg Rd\, Hamilton Township\, NJ\, 08619 \nWhen: Saturday\, January 27th from 9:30AM – 11AM EST \nRegister Here!
URL:https://mygoalinc.org/event/social-hour-live-3/
CATEGORIES:Social Hour
ATTACH;FMTTYPE=image/png:https://mygoalinc.org/wp-content/uploads/2024/01/2024-MyGOAL-social-hour.png
END:VEVENT
BEGIN:VEVENT
DTSTART;TZID=America/New_York:20231209T093000
DTEND;TZID=America/New_York:20231209T113000
DTSTAMP:20260421T162125
CREATED:20231128T190153Z
LAST-MODIFIED:20231128T190153Z
UID:1122-1702114200-1702121400@mygoalinc.org
SUMMARY:Social Hour Live
DESCRIPTION:What: Join us for breakfast and a time to share\, learn or simply listen as we connect with caregivers on a journey \nWhen: Saturday\, December 9 at 9:30AM – 11:30AM EST \nRegister Here!
URL:https://mygoalinc.org/event/social-hour-live-2/
CATEGORIES:Social Hour
ATTACH;FMTTYPE=image/png:https://mygoalinc.org/wp-content/uploads/2023/11/Social-Hour-Live-December-2023.png
END:VEVENT
BEGIN:VEVENT
DTSTART;TZID=America/New_York:20231118T093000
DTEND;TZID=America/New_York:20231118T113000
DTSTAMP:20260421T162125
CREATED:20231102T215819Z
LAST-MODIFIED:20231102T215819Z
UID:1114-1700299800-1700307000@mygoalinc.org
SUMMARY:Social Hour Live
DESCRIPTION:What: Join us for breakfast and a time to share\, learn or simply listen as we connect with caregivers on a journey \nWhen: Saturday\, November 18 from 9:30AM – 11:30AM EST \nRegister Here!
URL:https://mygoalinc.org/event/social-hour-live/
CATEGORIES:Social Hour
ATTACH;FMTTYPE=image/jpeg:https://mygoalinc.org/wp-content/uploads/2023/11/Copy-of-September-2023-MyGOAL-social-hour-1.jpeg
END:VEVENT
BEGIN:VEVENT
DTSTART;TZID=America/New_York:20231014T190000
DTEND;TZID=America/New_York:20231014T210000
DTSTAMP:20260421T162125
CREATED:20231003T001223Z
LAST-MODIFIED:20231003T001223Z
UID:1103-1697310000-1697317200@mygoalinc.org
SUMMARY:Social Hour
DESCRIPTION:What: Grab your favorite snack or beverage and come meet other families on their journey\, chat with others\, or simply just listen. \nWhen: Saturday\, October 14 at 7PM EST \nRegister Here!
URL:https://mygoalinc.org/event/social-hour-11/
CATEGORIES:Social Hour
ATTACH;FMTTYPE=image/jpeg:https://mygoalinc.org/wp-content/uploads/2023/10/Copy-of-September-2023-MyGOAL-social-hour.jpeg
END:VEVENT
BEGIN:VEVENT
DTSTART;TZID=America/New_York:20230914T190000
DTEND;TZID=America/New_York:20230914T210000
DTSTAMP:20260421T162125
CREATED:20230827T004838Z
LAST-MODIFIED:20230827T004838Z
UID:1085-1694718000-1694725200@mygoalinc.org
SUMMARY:Social Hour
DESCRIPTION:What: Grab your favorite snack or beverage and come meet other families on their journey\, chat with others\, or simply just listen. \nWhen: Thursday\, September 14 at 7PM EST \nRegister Here!
URL:https://mygoalinc.org/event/social-hour-10/
CATEGORIES:Social Hour
ATTACH;FMTTYPE=image/png:https://mygoalinc.org/wp-content/uploads/2023/08/September-2023-MyGOAL-social-hour.png
END:VEVENT
BEGIN:VEVENT
DTSTART;TZID=America/New_York:20230910T150000
DTEND;TZID=America/New_York:20230910T170000
DTSTAMP:20260421T162125
CREATED:20230827T004516Z
LAST-MODIFIED:20230827T004516Z
UID:1082-1694358000-1694365200@mygoalinc.org
SUMMARY:MyGOAL Family Autism Beach Bash 2023
DESCRIPTION:What: Join us at the 2023 MyGOAL Family Autism Beach Bash \nWhen: September 10\, 2023 at 3PM EST \nRegister Here!
URL:https://mygoalinc.org/event/mygoal-family-autism-beach-bash-2023/
CATEGORIES:Social Hour
ATTACH;FMTTYPE=image/png:https://mygoalinc.org/wp-content/uploads/2023/08/2023-MyGOAL-Beach-Bash.png
END:VEVENT
BEGIN:VEVENT
DTSTART;TZID=America/New_York:20230810T190000
DTEND;TZID=America/New_York:20230810T210000
DTSTAMP:20260421T162125
CREATED:20230730T033918Z
LAST-MODIFIED:20230730T033918Z
UID:1070-1691694000-1691701200@mygoalinc.org
SUMMARY:MyGOAL Social Hour
DESCRIPTION:What: Grab your favorite snack or beverage and come meet other families on their journey\, chat with others\, or simply just listen. \nWhen: Thursday\, August 10th at 7:00PM EST \nRegister Here!
URL:https://mygoalinc.org/event/mygoal-social-hour-20/
CATEGORIES:Social Hour
ATTACH;FMTTYPE=image/png:https://mygoalinc.org/wp-content/uploads/2023/07/August-2023-MyGOAL-social-hour.png
END:VEVENT
BEGIN:VEVENT
DTSTART;TZID=America/New_York:20230713T190000
DTEND;TZID=America/New_York:20230713T210000
DTSTAMP:20260421T162125
CREATED:20230704T051855Z
LAST-MODIFIED:20230704T051855Z
UID:1063-1689274800-1689282000@mygoalinc.org
SUMMARY:MyGOAL Social Hour
DESCRIPTION:What: Grab your favorite snack or beverage and come meet other families on their journey\, chat with others\, or simply just listen. \nWhen: Thursday\, July 13 at 7:00PM \nRegister Here!
URL:https://mygoalinc.org/event/mygoal-social-hour-19/
CATEGORIES:Social Hour
ATTACH;FMTTYPE=image/png:https://mygoalinc.org/wp-content/uploads/2023/07/July-2023-MyGOAL-social-hour.png
END:VEVENT
BEGIN:VEVENT
DTSTART;TZID=America/New_York:20230608T190000
DTEND;TZID=America/New_York:20230608T210000
DTSTAMP:20260421T162125
CREATED:20230604T044814Z
LAST-MODIFIED:20230604T044814Z
UID:1050-1686250800-1686258000@mygoalinc.org
SUMMARY:MyGOAL Social Hour
DESCRIPTION:What: Grab your favorite snack or beverage and come meet other families on their journey\, chat with others\, or simply just listen. \nWhen: Thursday\, June 8 at 7:00PM EST \nRegister Here!
URL:https://mygoalinc.org/event/mygoal-social-hour-18/
CATEGORIES:Social Hour
ATTACH;FMTTYPE=image/png:https://mygoalinc.org/wp-content/uploads/2023/06/June-2023-MyGOAL-social-hour.png
END:VEVENT
BEGIN:VEVENT
DTSTART;TZID=America/New_York:20230413T190000
DTEND;TZID=America/New_York:20230413T210000
DTSTAMP:20260421T162125
CREATED:20230402T185001Z
LAST-MODIFIED:20230402T185019Z
UID:1026-1681412400-1681419600@mygoalinc.org
SUMMARY:MyGOAL Social Hour
DESCRIPTION:What: Come chat with us! \nWhen: Thursday\, April 13\, 2023 at 7:00PM \nRegister Here!
URL:https://mygoalinc.org/event/mygoal-social-hour-17/
CATEGORIES:Social Hour
ATTACH;FMTTYPE=image/png:https://mygoalinc.org/wp-content/uploads/2023/04/April-2023-MyGOAL-social-hour-1.png
END:VEVENT
BEGIN:VEVENT
DTSTART;TZID=America/New_York:20230309T190000
DTEND;TZID=America/New_York:20230309T210000
DTSTAMP:20260421T162125
CREATED:20230305T003651Z
LAST-MODIFIED:20230305T003651Z
UID:1012-1678388400-1678395600@mygoalinc.org
SUMMARY:MyGOAL Social Hour
DESCRIPTION:What: Come chat with us! \nWhen: Thursday\, March 9 at 7:00PM \nRegister Here!
URL:https://mygoalinc.org/event/mygoal-social-hour-16/
CATEGORIES:Social Hour
ATTACH;FMTTYPE=image/png:https://mygoalinc.org/wp-content/uploads/2023/03/March-2023-MyGOAL-social-hour.png
END:VEVENT
BEGIN:VEVENT
DTSTART;TZID=America/New_York:20230209T190000
DTEND;TZID=America/New_York:20230209T210000
DTSTAMP:20260421T162125
CREATED:20230206T041945Z
LAST-MODIFIED:20230206T042053Z
UID:984-1675969200-1675976400@mygoalinc.org
SUMMARY:MyGOAL Social Hour
DESCRIPTION:What: Come chat with us! \nWhen: Thursday\, February 9 at 7:00PM \nRegister Here!
URL:https://mygoalinc.org/event/mygoal-social-hour-15/
CATEGORIES:Social Hour
ATTACH;FMTTYPE=image/png:https://mygoalinc.org/wp-content/uploads/2023/02/February-2023-MyGOAL-social-hour.png
END:VEVENT
BEGIN:VEVENT
DTSTART;TZID=America/New_York:20230112T120000
DTEND;TZID=America/New_York:20230112T140000
DTSTAMP:20260421T162125
CREATED:20230103T034720Z
LAST-MODIFIED:20230103T034720Z
UID:971-1673524800-1673532000@mygoalinc.org
SUMMARY:Social Hour January 2023
DESCRIPTION:What: Come chat with us! \nWhen: Thursday\, January 12 at 7PM EST \nRegister Here!
URL:https://mygoalinc.org/event/social-hour-january-2023/
CATEGORIES:Social Hour
ATTACH;FMTTYPE=image/png:https://mygoalinc.org/wp-content/uploads/2023/01/January-2023-MyGOAL-social-hour.png
END:VEVENT
BEGIN:VEVENT
DTSTART;TZID=America/New_York:20221208T190000
DTEND;TZID=America/New_York:20221208T210000
DTSTAMP:20260421T162125
CREATED:20221123T052144Z
LAST-MODIFIED:20221123T052226Z
UID:964-1670526000-1670533200@mygoalinc.org
SUMMARY:MyGOAL Social Hour
DESCRIPTION:What: Come chat with us! \nWhen: Thursday\, December 8 at 7:00PM \nRegister Here!
URL:https://mygoalinc.org/event/mygoal-social-hour-14/
CATEGORIES:Social Hour
ATTACH;FMTTYPE=image/png:https://mygoalinc.org/wp-content/uploads/2022/11/December-2022-MyGOAL-social-hour.png
END:VEVENT
BEGIN:VEVENT
DTSTART;TZID=America/New_York:20221123T080000
DTEND;TZID=America/New_York:20221123T170000
DTSTAMP:20260421T162125
CREATED:20221123T051559Z
LAST-MODIFIED:20221123T051559Z
UID:958-1669190400-1669222800@mygoalinc.org
SUMMARY:MyGOAL Social Hour
DESCRIPTION:What: Come chat with us! \nWhen: Thursday\, December 8 at 7:00PM \nRegister Here!
URL:https://mygoalinc.org/event/mygoal-social-hour-13/
CATEGORIES:Social Hour
ATTACH;FMTTYPE=image/png:https://mygoalinc.org/wp-content/uploads/2022/11/December-2022-MyGOAL-social-hour.png
END:VEVENT
BEGIN:VEVENT
DTSTART;TZID=America/New_York:20221110T190000
DTEND;TZID=America/New_York:20221110T210000
DTSTAMP:20260421T162125
CREATED:20220206T181115Z
LAST-MODIFIED:20221101T222537Z
UID:767-1668106800-1668114000@mygoalinc.org
SUMMARY:MyGOAL Social Hour
DESCRIPTION:What: Come chat with us! \nWhen: Thursday\, November 10 at 7:00PM \nRegister Here!
URL:https://mygoalinc.org/event/social-hour-9/
CATEGORIES:Social Hour
ATTACH;FMTTYPE=image/png:https://mygoalinc.org/wp-content/uploads/2022/02/november-10th-social-hour.png
END:VEVENT
BEGIN:VEVENT
DTSTART;TZID=America/New_York:20221013T190000
DTEND;TZID=America/New_York:20221013T210000
DTSTAMP:20260421T162125
CREATED:20220206T181020Z
LAST-MODIFIED:20220920T235311Z
UID:765-1665687600-1665694800@mygoalinc.org
SUMMARY:MyGOAL Social Hour
DESCRIPTION:What: Come chat with us! \nWhen: Thursday\, October 13th at 7:00PM \nRegister Here!
URL:https://mygoalinc.org/event/social-hour-8/
CATEGORIES:Social Hour
ATTACH;FMTTYPE=image/png:https://mygoalinc.org/wp-content/uploads/2022/02/October-2022-MyGOAL-social-hour.png
END:VEVENT
BEGIN:VEVENT
DTSTART;TZID=America/New_York:20220908T190000
DTEND;TZID=America/New_York:20220908T210000
DTSTAMP:20260421T162125
CREATED:20220206T180922Z
LAST-MODIFIED:20220829T201244Z
UID:763-1662663600-1662670800@mygoalinc.org
SUMMARY:MyGOAL Social Hour
DESCRIPTION:What: Come chat with us! \nWhen: Thursday\, September 8 at 7:00PM \nRegister Here!
URL:https://mygoalinc.org/event/social-hour-7/
CATEGORIES:Social Hour
ATTACH;FMTTYPE=image/png:https://mygoalinc.org/wp-content/uploads/2022/02/Sept-2022-MyGOAL-social-hour.png
END:VEVENT
BEGIN:VEVENT
DTSTART;TZID=America/New_York:20220811T190000
DTEND;TZID=America/New_York:20220811T210000
DTSTAMP:20260421T162125
CREATED:20220206T180811Z
LAST-MODIFIED:20220731T045103Z
UID:761-1660244400-1660251600@mygoalinc.org
SUMMARY:Social Hour
DESCRIPTION:What: Come chat with us! \nWhen: Thursday\, August 11 at 7:00PM \nRegister Here!
URL:https://mygoalinc.org/event/social-hour-6/
CATEGORIES:Social Hour
ATTACH;FMTTYPE=image/png:https://mygoalinc.org/wp-content/uploads/2022/02/August-2022-MyGOAL-social-hour.png
END:VEVENT
BEGIN:VEVENT
DTSTART;TZID=America/New_York:20220714T190000
DTEND;TZID=America/New_York:20220714T210000
DTSTAMP:20260421T162125
CREATED:20220206T180659Z
LAST-MODIFIED:20220720T042108Z
UID:759-1657825200-1657832400@mygoalinc.org
SUMMARY:Social Hour
DESCRIPTION:What: Come chat with us! \nWhen: Thursday\, July 14 at 7:00PM \nRegister Here!
URL:https://mygoalinc.org/event/social-hour-5/
CATEGORIES:Social Hour
ATTACH;FMTTYPE=image/png:https://mygoalinc.org/wp-content/uploads/2022/02/July-2022-MyGOAL-social-hour-2.png
END:VEVENT
BEGIN:VEVENT
DTSTART;TZID=America/New_York:20220609T190000
DTEND;TZID=America/New_York:20220609T210000
DTSTAMP:20260421T162125
CREATED:20220206T180603Z
LAST-MODIFIED:20220524T040220Z
UID:757-1654801200-1654808400@mygoalinc.org
SUMMARY:Social Hour
DESCRIPTION:What: Come chat with us! \nWhen: Thursday\, June 9th at 7:00PM \nRegister Here!
URL:https://mygoalinc.org/event/social-hour-4/
CATEGORIES:Social Hour
ATTACH;FMTTYPE=image/png:https://mygoalinc.org/wp-content/uploads/2022/02/Desktop-June-2022-MyGOAL-Social-Hour-HF.png
END:VEVENT
BEGIN:VEVENT
DTSTART;TZID=America/New_York:20220512T190000
DTEND;TZID=America/New_York:20220512T210000
DTSTAMP:20260421T162125
CREATED:20220206T180459Z
LAST-MODIFIED:20220514T035741Z
UID:755-1652382000-1652389200@mygoalinc.org
SUMMARY:MyGOAL Social Hour
DESCRIPTION:What: Come chat with us! \nWhen: Thursday\, May 12 at 7:00PM \nRegister Here!
URL:https://mygoalinc.org/event/social-hour-3/
CATEGORIES:Social Hour
ATTACH;FMTTYPE=image/png:https://mygoalinc.org/wp-content/uploads/2022/02/MyGOAL-Social-Hour.png
END:VEVENT
END:VCALENDAR