BEGIN:VCALENDAR
VERSION:2.0
PRODID:-//MyGOAL - ECPv6.15.20//NONSGML v1.0//EN
CALSCALE:GREGORIAN
METHOD:PUBLISH
X-WR-CALNAME:MyGOAL
X-ORIGINAL-URL:https://mygoalinc.org
X-WR-CALDESC:Events for MyGOAL
REFRESH-INTERVAL;VALUE=DURATION:PT1H
X-Robots-Tag:noindex
X-PUBLISHED-TTL:PT1H
BEGIN:VTIMEZONE
TZID:America/New_York
BEGIN:DAYLIGHT
TZOFFSETFROM:-0500
TZOFFSETTO:-0400
TZNAME:EDT
DTSTART:20240310T070000
END:DAYLIGHT
BEGIN:STANDARD
TZOFFSETFROM:-0400
TZOFFSETTO:-0500
TZNAME:EST
DTSTART:20241103T060000
END:STANDARD
BEGIN:DAYLIGHT
TZOFFSETFROM:-0500
TZOFFSETTO:-0400
TZNAME:EDT
DTSTART:20250309T070000
END:DAYLIGHT
BEGIN:STANDARD
TZOFFSETFROM:-0400
TZOFFSETTO:-0500
TZNAME:EST
DTSTART:20251102T060000
END:STANDARD
BEGIN:DAYLIGHT
TZOFFSETFROM:-0500
TZOFFSETTO:-0400
TZNAME:EDT
DTSTART:20260308T070000
END:DAYLIGHT
BEGIN:STANDARD
TZOFFSETFROM:-0400
TZOFFSETTO:-0500
TZNAME:EST
DTSTART:20261101T060000
END:STANDARD
BEGIN:DAYLIGHT
TZOFFSETFROM:-0500
TZOFFSETTO:-0400
TZNAME:EDT
DTSTART:20270314T070000
END:DAYLIGHT
BEGIN:STANDARD
TZOFFSETFROM:-0400
TZOFFSETTO:-0500
TZNAME:EST
DTSTART:20271107T060000
END:STANDARD
END:VTIMEZONE
BEGIN:VEVENT
DTSTART;TZID=America/New_York:20251226T190000
DTEND;TZID=America/New_York:20251226T210000
DTSTAMP:20260424T000304
CREATED:20251208T011443Z
LAST-MODIFIED:20251208T011443Z
UID:1440-1766775600-1766782800@mygoalinc.org
SUMMARY:Empowerment Moment with Dr. G
DESCRIPTION:What: Get a word of encouragement to get through the season \nWhen: Friday\, December 26th at 7PM EST \nClick here to register!
URL:https://mygoalinc.org/event/empowerment-moment-with-dr-g-35/
CATEGORIES:Empowerment Moment
ATTACH;FMTTYPE=image/png:https://mygoalinc.org/wp-content/uploads/2025/12/December-Empowerment-Moment-2025-Desktop.png
END:VEVENT
BEGIN:VEVENT
DTSTART;TZID=America/New_York:20260122T190000
DTEND;TZID=America/New_York:20260122T210000
DTSTAMP:20260424T000304
CREATED:20260112T055524Z
LAST-MODIFIED:20260112T055524Z
UID:1446-1769108400-1769115600@mygoalinc.org
SUMMARY:Empowerment Moment with Dr. G
DESCRIPTION:What: Get a word of encouragement to get through the season \nWhen: Thursday\, January 22 at 7PM EST \nRegister Here!
URL:https://mygoalinc.org/event/empowerment-moment-with-dr-g-36/
CATEGORIES:Empowerment Moment
ATTACH;FMTTYPE=image/png:https://mygoalinc.org/wp-content/uploads/2026/01/January-2026-Empowerment-Moment-Desktop.png
END:VEVENT
BEGIN:VEVENT
DTSTART;TZID=America/New_York:20260226T190000
DTEND;TZID=America/New_York:20260226T210000
DTSTAMP:20260424T000304
CREATED:20260131T034613Z
LAST-MODIFIED:20260316T015439Z
UID:1459-1772132400-1772139600@mygoalinc.org
SUMMARY:Empowerment Moment with Dr. G
DESCRIPTION:What: Get a word of encouragement to get through the season \nWhen: Thursday\, February 26th at 7PM EST \nRegister Here!
URL:https://mygoalinc.org/event/empowerment-moment-with-dr-g-37/
CATEGORIES:Empowerment Moment
ATTACH;FMTTYPE=image/png:https://mygoalinc.org/wp-content/uploads/2026/01/2026-Empowerment-Moment-Desktop.png
END:VEVENT
BEGIN:VEVENT
DTSTART;TZID=America/New_York:20260326T190000
DTEND;TZID=America/New_York:20260326T210000
DTSTAMP:20260424T000304
CREATED:20260316T012726Z
LAST-MODIFIED:20260316T012726Z
UID:1463-1774551600-1774558800@mygoalinc.org
SUMMARY:Empowerment Moment with Dr. G
DESCRIPTION:What: Get a word of encouragement to get through the season \nWhen: Thursday\, March 26th at 7PM EST \nRegister Here!
URL:https://mygoalinc.org/event/empowerment-moment-with-dr-g-38/
CATEGORIES:Empowerment Moment
ATTACH;FMTTYPE=image/png:https://mygoalinc.org/wp-content/uploads/2026/03/2026-Empowerment-Moment-Desktop-1.png
END:VEVENT
END:VCALENDAR