BEGIN:VCALENDAR
VERSION:2.0
PRODID:-//MyGOAL - ECPv6.15.20//NONSGML v1.0//EN
CALSCALE:GREGORIAN
METHOD:PUBLISH
X-ORIGINAL-URL:https://mygoalinc.org
X-WR-CALDESC:Events for MyGOAL
REFRESH-INTERVAL;VALUE=DURATION:PT1H
X-Robots-Tag:noindex
X-PUBLISHED-TTL:PT1H
BEGIN:VTIMEZONE
TZID:America/New_York
BEGIN:DAYLIGHT
TZOFFSETFROM:-0500
TZOFFSETTO:-0400
TZNAME:EDT
DTSTART:20220313T070000
END:DAYLIGHT
BEGIN:STANDARD
TZOFFSETFROM:-0400
TZOFFSETTO:-0500
TZNAME:EST
DTSTART:20221106T060000
END:STANDARD
BEGIN:DAYLIGHT
TZOFFSETFROM:-0500
TZOFFSETTO:-0400
TZNAME:EDT
DTSTART:20230312T070000
END:DAYLIGHT
BEGIN:STANDARD
TZOFFSETFROM:-0400
TZOFFSETTO:-0500
TZNAME:EST
DTSTART:20231105T060000
END:STANDARD
BEGIN:DAYLIGHT
TZOFFSETFROM:-0500
TZOFFSETTO:-0400
TZNAME:EDT
DTSTART:20240310T070000
END:DAYLIGHT
BEGIN:STANDARD
TZOFFSETFROM:-0400
TZOFFSETTO:-0500
TZNAME:EST
DTSTART:20241103T060000
END:STANDARD
END:VTIMEZONE
BEGIN:VEVENT
DTSTART;TZID=America/New_York:20231104T190000
DTEND;TZID=America/New_York:20231104T230000
DTSTAMP:20260421T065934
CREATED:20230811T042326Z
LAST-MODIFIED:20230905T040445Z
UID:1079-1699124400-1699138800@mygoalinc.org
SUMMARY:15th Annual Autism Gala
DESCRIPTION:What: An event featuring music\, raffles\, auctions\, stories\, and more! \nWhen: Saturday\, November 4\, 2023 at 7:00PM \nWhere: The Pines Manor\, 2085 Route 27\, Edison\, NJ\, 08817 \nEarly Bird Registration Fee (Through October 4): $90 \nRegister / Donate / Sponsor (click here to register)
URL:https://mygoalinc.org/event/15th-annual-autism-gala/
ATTACH;FMTTYPE=image/png:https://mygoalinc.org/wp-content/uploads/2023/08/MyGOAL-Gala-2023.png
END:VEVENT
END:VCALENDAR