BEGIN:VCALENDAR
VERSION:2.0
PRODID:-//MyGOAL - ECPv6.15.20//NONSGML v1.0//EN
CALSCALE:GREGORIAN
METHOD:PUBLISH
X-WR-CALNAME:MyGOAL
X-ORIGINAL-URL:https://mygoalinc.org
X-WR-CALDESC:Events for MyGOAL
REFRESH-INTERVAL;VALUE=DURATION:PT1H
X-Robots-Tag:noindex
X-PUBLISHED-TTL:PT1H
BEGIN:VTIMEZONE
TZID:America/New_York
BEGIN:DAYLIGHT
TZOFFSETFROM:-0500
TZOFFSETTO:-0400
TZNAME:EDT
DTSTART:20220313T070000
END:DAYLIGHT
BEGIN:STANDARD
TZOFFSETFROM:-0400
TZOFFSETTO:-0500
TZNAME:EST
DTSTART:20221106T060000
END:STANDARD
BEGIN:DAYLIGHT
TZOFFSETFROM:-0500
TZOFFSETTO:-0400
TZNAME:EDT
DTSTART:20230312T070000
END:DAYLIGHT
BEGIN:STANDARD
TZOFFSETFROM:-0400
TZOFFSETTO:-0500
TZNAME:EST
DTSTART:20231105T060000
END:STANDARD
BEGIN:DAYLIGHT
TZOFFSETFROM:-0500
TZOFFSETTO:-0400
TZNAME:EDT
DTSTART:20240310T070000
END:DAYLIGHT
BEGIN:STANDARD
TZOFFSETFROM:-0400
TZOFFSETTO:-0500
TZNAME:EST
DTSTART:20241103T060000
END:STANDARD
END:VTIMEZONE
BEGIN:VEVENT
DTSTART;TZID=America/New_York:20230212T140000
DTEND;TZID=America/New_York:20230212T160000
DTSTAMP:20260423T195021
CREATED:20230103T035745Z
LAST-MODIFIED:20230206T042923Z
UID:974-1676210400-1676217600@mygoalinc.org
SUMMARY:Special Individuals Art Club - A Six Week Art Club
DESCRIPTION:What: A 6 week Creative Art classes for Special Individual. No experience with Art necessary. \nWhen: Every other Sunday\, starting on January 15th 2023 from 2-4PM EST \n\nJanuary 15 and 29\nFebruary 12 and 26\nMarch 12 and 26\nApril 2\n\nRegistration has closed.
URL:https://mygoalinc.org/event/special-individuals-art-club/2023-02-12/
ATTACH;FMTTYPE=image/jpeg:https://mygoalinc.org/wp-content/uploads/2023/01/Special-Individuals-Art-Club.jpeg
END:VEVENT
BEGIN:VEVENT
DTSTART;TZID=America/New_York:20230212T150000
DTEND;TZID=America/New_York:20230212T170000
DTSTAMP:20260423T195021
CREATED:20230206T042408Z
LAST-MODIFIED:20230206T042408Z
UID:988-1676214000-1676221200@mygoalinc.org
SUMMARY:Ask the Expert: Your Autism and Other IDD Toolkit - Navigating State Resources
DESCRIPTION:What: Peer support that creates stronger connections \nWhen: Sunday\, February 12 at 3:00PM \nRegister Here!
URL:https://mygoalinc.org/event/ask-the-expert-your-autism-and-other-idd-toolkit-navigating-state-resources/
CATEGORIES:Ask the Expert
ATTACH;FMTTYPE=image/png:https://mygoalinc.org/wp-content/uploads/2023/02/Ask-the-Expert-February-2023.png
END:VEVENT
END:VCALENDAR