BEGIN:VCALENDAR
VERSION:2.0
PRODID:-//MyGOAL - ECPv6.15.20//NONSGML v1.0//EN
CALSCALE:GREGORIAN
METHOD:PUBLISH
X-ORIGINAL-URL:https://mygoalinc.org
X-WR-CALDESC:Events for MyGOAL
REFRESH-INTERVAL;VALUE=DURATION:PT1H
X-Robots-Tag:noindex
X-PUBLISHED-TTL:PT1H
BEGIN:VTIMEZONE
TZID:America/New_York
BEGIN:DAYLIGHT
TZOFFSETFROM:-0500
TZOFFSETTO:-0400
TZNAME:EDT
DTSTART:20210314T070000
END:DAYLIGHT
BEGIN:STANDARD
TZOFFSETFROM:-0400
TZOFFSETTO:-0500
TZNAME:EST
DTSTART:20211107T060000
END:STANDARD
BEGIN:DAYLIGHT
TZOFFSETFROM:-0500
TZOFFSETTO:-0400
TZNAME:EDT
DTSTART:20220313T070000
END:DAYLIGHT
BEGIN:STANDARD
TZOFFSETFROM:-0400
TZOFFSETTO:-0500
TZNAME:EST
DTSTART:20221106T060000
END:STANDARD
BEGIN:DAYLIGHT
TZOFFSETFROM:-0500
TZOFFSETTO:-0400
TZNAME:EDT
DTSTART:20230312T070000
END:DAYLIGHT
BEGIN:STANDARD
TZOFFSETFROM:-0400
TZOFFSETTO:-0500
TZNAME:EST
DTSTART:20231105T060000
END:STANDARD
END:VTIMEZONE
BEGIN:VEVENT
DTSTART;TZID=America/New_York:20220911T090000
DTEND;TZID=America/New_York:20220911T160000
DTSTAMP:20260420T135150
CREATED:20220206T182815Z
LAST-MODIFIED:20220906T181449Z
UID:798-1662886800-1662912000@mygoalinc.org
SUMMARY:Annual Autism Beach Bash
DESCRIPTION:What: Join MyGOAL and make a splash! \nWhen: Sunday\, September 11 from 9AM – 4PM \nWhere: Belmar Beach (14th Avenue Beach\, Belmar\, New Jersey\, 07719) \nRegister Here!
URL:https://mygoalinc.org/event/beach-bash/
ATTACH;FMTTYPE=image/png:https://mygoalinc.org/wp-content/uploads/2022/02/2022-MyGOAL-Beach-Bash-1.png
END:VEVENT
END:VCALENDAR